BEGIN:VCALENDAR
VERSION:2.0
PRODID:-//Division of Gastroenterology//NONSGML Events//EN
CALSCALE:GREGORIAN
X-ORIGINAL-URL:https://gastro.wustl.edu/events/
X-WR-CALDESC:Division of Gastroenterology - Events
BEGIN:VEVENT
UID:20210222T1555Z-1614009343.1509-EO-6598-1@172.23.128.18
STATUS:CONFIRMED
DTSTAMP:20260423T224058Z
CREATED:20210222T154906Z
LAST-MODIFIED:20210222T154906Z
DTSTART;TZID=America/Chicago:20210302T070000
DTEND;TZID=America/Chicago:20210302T080000
SUMMARY: Core Conference: Dennis Chen\, MD
DESCRIPTION: “Not as God Intended: Post Surgical Anatomy for the First Year
  Fellow“ Speaker: Dennis Chen\, MD Assistant Professor of Medicine Please C
 ontact Beth Buschard-Steiger for Zoom Details
X-ALT-DESC;FMTTYPE=text/html: <h2 style="text-align: center\;">"<em>Not as 
 God Intended: Post Surgical Anatomy for the First Year Fellow</em>"</h2><h2
  style="text-align: center\;">Speaker: Dennis Chen\, MD</h2><h4 style="text
 -align: center\;">Assistant Professor of Medicine</h4><h4 style="text-align
 : center\;">Please Contact Beth Buschard-Steiger for Zoom Details</h4>
CATEGORIES:Core Conference
LOCATION:Zoom
GEO:38.635144;-90.262929
ORGANIZER;CN="Scott":MAILTO:bosso.scott@wustl.edu
URL;VALUE=URI:https://gastro.wustl.edu/events/event/core-conference-dennis-
 chen-md/
END:VEVENT
BEGIN:VTIMEZONE
TZID:America/Chicago
BEGIN:STANDARD
TZOFFSETFROM:-0500
TZOFFSETTO:-0600
DTSTART:20201101T070000
TZNAME:CST
END:STANDARD
END:VTIMEZONE
END:VCALENDAR
