BEGIN:VCALENDAR
VERSION:2.0
PRODID:-//Division of Gastroenterology//NONSGML Events//EN
CALSCALE:GREGORIAN
X-ORIGINAL-URL:https://gastro.wustl.edu/events/
X-WR-CALDESC:Division of Gastroenterology - Events
BEGIN:VEVENT
UID:20181008T2047Z-1539031651.4406-EO-4587-1@172.21.70.41
STATUS:CONFIRMED
DTSTAMP:20260420T034138Z
CREATED:20181008T204601Z
LAST-MODIFIED:20181203T222627Z
DTSTART;TZID=America/Chicago:20181204T070000
DTEND;TZID=America/Chicago:20181204T080000
SUMMARY: Core Conference: Daniel K. Mullady\, MD
DESCRIPTION: “Cholangiograms“ Speaker: Daniel K. Mullady\, MD Professor of 
 Medicine
X-ALT-DESC;FMTTYPE=text/html: <h2 style="text-align: center\;">"<em>Cholang
 iograms</em>"</h2><h2 style="text-align: center\;">Speaker: Daniel K. Mulla
 dy\, MD</h2><h4 style="text-align: center\;">Professor of Medicine</h4>
CATEGORIES:Core Conference
LOCATION:Clouse Conference Room
GEO:38.621247;-90.252616
ORGANIZER;CN="Scott":MAILTO:bosso.scott@wustl.edu
URL;VALUE=URI:https://gastro.wustl.edu/events/event/core-conference-daniel-
 k-mullady-md/
END:VEVENT
BEGIN:VTIMEZONE
TZID:America/Chicago
BEGIN:STANDARD
TZOFFSETFROM:-0500
TZOFFSETTO:-0600
DTSTART:20181104T070000
TZNAME:CST
END:STANDARD
END:VTIMEZONE
END:VCALENDAR
