BEGIN:VCALENDAR
VERSION:2.0
PRODID:-//Division of Gastroenterology//NONSGML Events//EN
CALSCALE:GREGORIAN
X-ORIGINAL-URL:https://gastro.wustl.edu/events/
X-WR-CALDESC:Division of Gastroenterology - Events
BEGIN:VEVENT
UID:20201007T1634Z-1602088456.4581-EO-6284-1@172.23.128.18
STATUS:CONFIRMED
DTSTAMP:20260421T022319Z
CREATED:20201007T162216Z
LAST-MODIFIED:20201103T204650Z
DTSTART;TZID=America/Chicago:20201021T070000
DTEND;TZID=America/Chicago:20201021T080000
SUMMARY: Teaching Conference: ANMS Talk: Cheryl Richards\, PhD
DESCRIPTION: “CBT“ Speaker: Cheryl Richards\, PhD Assistant Professor of Me
 dicine and Psychiatry Please Contact Beth Buschard-Steiger for Zoom Details
X-ALT-DESC;FMTTYPE=text/html: <h2 style="text-align: center\;">"<em>CBT</em
 >"</h2><h2 style="text-align: center\;">Speaker: Cheryl Richards\, PhD</h2>
 <h4 style="text-align: center\;">Assistant Professor of Medicine and Psychi
 atry</h4><h4 style="text-align: center\;">Please Contact Beth Buschard-Stei
 ger for Zoom Details</h4>
CATEGORIES:Core Conference
LOCATION:Zoom
GEO:38.635144;-90.262929
ORGANIZER;CN="Scott":MAILTO:bosso.scott@wustl.edu
URL;VALUE=URI:https://gastro.wustl.edu/events/event/core-conference-cheryl-
 richards-phd/
END:VEVENT
BEGIN:VTIMEZONE
TZID:America/Chicago
BEGIN:DAYLIGHT
TZOFFSETFROM:-0600
TZOFFSETTO:-0500
DTSTART:20200308T080000
TZNAME:CDT
END:DAYLIGHT
END:VTIMEZONE
END:VCALENDAR
