BEGIN:VCALENDAR
VERSION:2.0
PRODID:-//Division of Gastroenterology//NONSGML Events//EN
CALSCALE:GREGORIAN
X-ORIGINAL-URL:https://gastro.wustl.edu/events/
X-WR-CALDESC:Division of Gastroenterology - Events
BEGIN:VEVENT
UID:20180921T2044Z-1537562692.5944-EO-4500-1@172.20.65.30
STATUS:CONFIRMED
DTSTAMP:20260424T211129Z
CREATED:20180921T203555Z
LAST-MODIFIED:20181005T195645Z
DTSTART;TZID=America/Chicago:20181016T073000
DTEND;TZID=America/Chicago:20181016T083000
SUMMARY: Journal Club: Adeeti Chiplunker\, MD and Motaz Ashkar\, MD
DESCRIPTION: Chiplunker: “Biologics Delay Progression of Crohn’s Disease\, 
 but Not Early Surgery\, in Children” Ashkar: “Comparison of Normal Saline V
 ersus Lactated Ringer’s Solution for Fluid Resuscitation in Patients with M
 ild Acute Pancreatitis\, a Randomized Controlled Trial“ Speaker: Adeeti Chi
 plunker\, MD and Motaz Ashkar\, MD GI Fellows
X-ALT-DESC;FMTTYPE=text/html: <h2 style="text-align: center\;">Chiplunker: 
 "<em>Biologics Delay Progression of Crohn’s Disease\, but Not Early Surgery
 \, in Children</em>"<br />Ashkar: "<em>Comparison of Normal Saline Versus L
 actated Ringer’s Solution for Fluid Resuscitation in Patients with Mild Acu
 te Pancreatitis\, a Randomized Controlled Trial</em>"</h2><h2 style="text-a
 lign: center\;">Speaker: Adeeti Chiplunker\, MD and Motaz Ashkar\, MD</h2><
 h4 style="text-align: center\;">GI Fellows</h4>
CATEGORIES:Journal Club
LOCATION:Clouse Conference Room
GEO:38.621247;-90.252616
ORGANIZER;CN="Scott":MAILTO:bosso.scott@wustl.edu
URL;VALUE=URI:https://gastro.wustl.edu/events/event/core-conference-adeeti-
 chiplunker-md/
END:VEVENT
BEGIN:VTIMEZONE
TZID:America/Chicago
BEGIN:DAYLIGHT
TZOFFSETFROM:-0600
TZOFFSETTO:-0500
DTSTART:20180311T080000
TZNAME:CDT
END:DAYLIGHT
END:VTIMEZONE
END:VCALENDAR
