BEGIN:VCALENDAR
VERSION:2.0
PRODID:-//Division of Gastroenterology//NONSGML Events//EN
CALSCALE:GREGORIAN
X-ORIGINAL-URL:https://gastro.wustl.edu/events/
X-WR-CALDESC:Division of Gastroenterology - Events
BEGIN:VEVENT
UID:20250912T2057Z-1757710663.1564-EO-11423-1@10.73.3.231
STATUS:CONFIRMED
DTSTAMP:20260420T184314Z
CREATED:20250912T204117Z
LAST-MODIFIED:20250912T204117Z
DTSTART;TZID=America/Chicago:20251210T070000
DTEND;TZID=America/Chicago:20251210T080000
SUMMARY: Core Conference
DESCRIPTION: “Steatotic Liver Diseases” Scott McHenry\, MD Associate Profes
 sor of Medicine Please Contact Beth Buschard-Steiger (bbuscha@wustl.edu) fo
 r Zoom Details
X-ALT-DESC;FMTTYPE=text/html: <h4 style="text-align: center\;">"Steatotic L
 iver Diseases"</h4><p style="text-align: center\;"><h5 class="washu-ppi-nam
 e entry-title" style="text-align: center\;"><span class="entry-title-link">
 Scott McHenry\, MD</span></h5><p class="washu-ppi-description" style="text-
 align: center\;">Associate Professor of Medicine</p><p style="text-align: c
 enter\;"><p style="text-align: center\;">Please Contact Beth Buschard-Steig
 er (<a href="mailto:bbuscha@wustl.edu">bbuscha@wustl.edu</a>) for Zoom Deta
 ils</p>
CATEGORIES:Core Conference
LOCATION:Zoom
GEO:38.635144;-90.262929
ORGANIZER;CN="Leslie":MAILTO:larnold@wustl.edu
URL;VALUE=URI:https://gastro.wustl.edu/events/event/core-conference-85/
END:VEVENT
BEGIN:VTIMEZONE
TZID:America/Chicago
BEGIN:STANDARD
TZOFFSETFROM:-0500
TZOFFSETTO:-0600
DTSTART:20251102T070000
TZNAME:CST
END:STANDARD
END:VTIMEZONE
END:VCALENDAR
