BEGIN:VCALENDAR
VERSION:2.0
PRODID:-//Division of Gastroenterology//NONSGML Events//EN
CALSCALE:GREGORIAN
X-ORIGINAL-URL:https://gastro.wustl.edu/events/
X-WR-CALDESC:Division of Gastroenterology - Events
BEGIN:VEVENT
UID:20250912T2037Z-1757709429.1564-EO-11420-1@10.73.3.231
STATUS:CONFIRMED
DTSTAMP:20260420T214450Z
CREATED:20250912T203445Z
LAST-MODIFIED:20250912T203445Z
DTSTART;TZID=America/Chicago:20251112T070000
DTEND;TZID=America/Chicago:20251112T080000
SUMMARY: Core Conference
DESCRIPTION: “Ostomy 201” Richard P Rood\, MD\, FACP\, FACG\, AGAF\, FASGE 
 Professor of Medicine Director\, Ostomy Clinic Please Contact Beth Buschard
 -Steiger (bbuscha@wustl.edu) for Zoom Details
X-ALT-DESC;FMTTYPE=text/html: <h3 style="text-align: center\;">"Ostomy 201"
 </h3><p style="text-align: center\;"><h5 class="washu-ppi-name entry-title"
  style="text-align: center\;"><span class="entry-title-link">Richard P Rood
 \, MD\, FACP\, FACG\, AGAF\, FASGE</span></h5><p class="washu-ppi-descripti
 on" style="text-align: center\;">Professor of Medicine<br />Director\, Osto
 my Clinic</p><p style="text-align: center\;"><p style="text-align: center\;
 ">Please Contact Beth Buschard-Steiger (<a href="mailto:bbuscha@wustl.edu">
 bbuscha@wustl.edu</a>) for Zoom Details</p>
CATEGORIES:Core Conference
LOCATION:Zoom
GEO:38.635144;-90.262929
ORGANIZER;CN="Leslie":MAILTO:larnold@wustl.edu
URL;VALUE=URI:https://gastro.wustl.edu/events/event/core-conference-83/
END:VEVENT
BEGIN:VTIMEZONE
TZID:America/Chicago
BEGIN:STANDARD
TZOFFSETFROM:-0500
TZOFFSETTO:-0600
DTSTART:20251102T070000
TZNAME:CST
END:STANDARD
END:VTIMEZONE
END:VCALENDAR
