BEGIN:VCALENDAR
VERSION:2.0
PRODID:-//Division of Gastroenterology//NONSGML Events//EN
CALSCALE:GREGORIAN
X-ORIGINAL-URL:https://gastro.wustl.edu/events/
X-WR-CALDESC:Division of Gastroenterology - Events
BEGIN:VEVENT
UID:20250912T2033Z-1757709192.8988-EO-11419-1@10.73.3.231
STATUS:CONFIRMED
DTSTAMP:20260420T214450Z
CREATED:20250912T203303Z
LAST-MODIFIED:20250912T203303Z
DTSTART;TZID=America/Chicago:20251105T070000
DTEND;TZID=America/Chicago:20251105T080000
SUMMARY: Core Conference
DESCRIPTION: IBD Month: Colorectal surgery terminologies for a Gastroentero
 logist William C. Chapman Jr\, MD\, MPHS Assistant Professor of Surgery Sec
 tion of Colon and Rectal Surgery Division of General Surgery Please Contact
  Beth Buschard-Steiger (bbuscha@wustl.edu) for Zoom Details
X-ALT-DESC;FMTTYPE=text/html: <h1></h1><h4 style="text-align: center\;">IBD
  Month: Colorectal surgery terminologies for a Gastroenterologist</h4><h5 c
 lass="washu-ppi-name entry-title" style="text-align: center\;">William C. C
 hapman Jr\, MD\, MPHS</h5><p class="washu-ppi-description" style="text-alig
 n: center\;">Assistant Professor of Surgery<br />Section of Colon and Recta
 l Surgery<br />Division of General Surgery</p><p style="text-align: center\
 ;"><p style="text-align: center\;">Please Contact Beth Buschard-Steiger (<a
  href="mailto:bbuscha@wustl.edu">bbuscha@wustl.edu</a>) for Zoom Details</p
 >
CATEGORIES:Core Conference
LOCATION:Zoom
GEO:38.635144;-90.262929
ORGANIZER;CN="Leslie":MAILTO:larnold@wustl.edu
URL;VALUE=URI:https://gastro.wustl.edu/events/event/core-conference-82/
END:VEVENT
BEGIN:VTIMEZONE
TZID:America/Chicago
BEGIN:STANDARD
TZOFFSETFROM:-0500
TZOFFSETTO:-0600
DTSTART:20251102T070000
TZNAME:CST
END:STANDARD
END:VTIMEZONE
END:VCALENDAR
