BEGIN:VCALENDAR
VERSION:2.0
PRODID:-//Division of Gastroenterology//NONSGML Events//EN
CALSCALE:GREGORIAN
X-ORIGINAL-URL:https://gastro.wustl.edu/events/
X-WR-CALDESC:Division of Gastroenterology - Events
BEGIN:VEVENT
UID:20250912T2031Z-1757709078.8155-EO-11418-1@10.73.3.231
STATUS:CONFIRMED
DTSTAMP:20260420T114640Z
CREATED:20250912T203103Z
LAST-MODIFIED:20250912T203103Z
DTSTART;TZID=America/Chicago:20251022T070000
DTEND;TZID=America/Chicago:20251022T080000
SUMMARY: Core Conference
DESCRIPTION: Bradley Busebee\, MD Second-Year Fellow Please Contact Beth Bu
 schard-Steiger (bbuscha@wustl.edu) for Zoom Details
X-ALT-DESC;FMTTYPE=text/html: <h4 class="washu-ppi-name entry-title" style=
 "text-align: center\;"><span class="entry-title-span">Bradley Busebee\, MD<
 /span></h4><p class="washu-ppi-description" style="text-align: center\;">Se
 cond-Year Fellow</p><p style="text-align: center\;"><p style="text-align: c
 enter\;">Please Contact Beth Buschard-Steiger (<a href="mailto:bbuscha@wust
 l.edu">bbuscha@wustl.edu</a>) for Zoom Details</p>
CATEGORIES:Core Conference
LOCATION:Zoom
GEO:38.635144;-90.262929
ORGANIZER;CN="Leslie":MAILTO:larnold@wustl.edu
URL;VALUE=URI:https://gastro.wustl.edu/events/event/core-conference-81/
END:VEVENT
BEGIN:VTIMEZONE
TZID:America/Chicago
BEGIN:DAYLIGHT
TZOFFSETFROM:-0600
TZOFFSETTO:-0500
DTSTART:20250309T080000
TZNAME:CDT
END:DAYLIGHT
END:VTIMEZONE
END:VCALENDAR
