BEGIN:VCALENDAR
VERSION:2.0
PRODID:-//Division of Gastroenterology//NONSGML Events//EN
CALSCALE:GREGORIAN
X-ORIGINAL-URL:https://gastro.wustl.edu/events/
X-WR-CALDESC:Division of Gastroenterology - Events
BEGIN:VEVENT
UID:20250912T2030Z-1757709000.9339-EO-11416-1@10.73.3.231
STATUS:CONFIRMED
DTSTAMP:20260422T143216Z
CREATED:20250912T202749Z
LAST-MODIFIED:20250912T202749Z
DTSTART;TZID=America/Chicago:20251008T070000
DTEND;TZID=America/Chicago:20251008T080000
SUMMARY: Core Conference
DESCRIPTION: “GI Neuroendocrine Tumors: When to worry and when to watch” Ni
 kolaos Trikalinos\, MD Medical Oncology\, Cancer (Oncology) Please Contact 
 Beth Buschard-Steiger (bbuscha@wustl.edu) for Zoom Details
X-ALT-DESC;FMTTYPE=text/html: <h3 style="text-align: center\;">"GI Neuroend
 ocrine Tumors: When to worry and when to watch"</h3><h1 style="text-align: 
 center\;"></h1><h4 class="washu-ppi-name entry-title" style="text-align: ce
 nter\;">Nikolaos Trikalinos\, MD</h4><h5 class="lead" style="text-align: ce
 nter\;">Medical Oncology\, Cancer (Oncology)</h5><p style="text-align: cent
 er\;"><p style="text-align: center\;">Please Contact Beth Buschard-Steiger 
 (<a href="mailto:bbuscha@wustl.edu">bbuscha@wustl.edu</a>) for Zoom Details
 </p>
CATEGORIES:Core Conference
LOCATION:Zoom
GEO:38.635144;-90.262929
ORGANIZER;CN="Leslie":MAILTO:larnold@wustl.edu
URL;VALUE=URI:https://gastro.wustl.edu/events/event/core-conference-80/
END:VEVENT
BEGIN:VTIMEZONE
TZID:America/Chicago
BEGIN:DAYLIGHT
TZOFFSETFROM:-0600
TZOFFSETTO:-0500
DTSTART:20250309T080000
TZNAME:CDT
END:DAYLIGHT
END:VTIMEZONE
END:VCALENDAR
