BEGIN:VCALENDAR
VERSION:2.0
PRODID:-//Division of Gastroenterology//NONSGML Events//EN
CALSCALE:GREGORIAN
X-ORIGINAL-URL:https://gastro.wustl.edu/events/
X-WR-CALDESC:Division of Gastroenterology - Events
BEGIN:VEVENT
UID:20250912T2030Z-1757709000.9281-EO-11415-1@10.73.3.231
STATUS:CONFIRMED
DTSTAMP:20260423T050726Z
CREATED:20250912T202442Z
LAST-MODIFIED:20250912T202442Z
DTSTART;TZID=America/Chicago:20251001T070000
DTEND;TZID=America/Chicago:20251001T080000
SUMMARY: Core Conference
DESCRIPTION: “Management of Portal Hypertension: Banding\, TIPS\, BRTO\, an
 d Beyond” Megan White\, MD Assistant Professor of Medicine Please Contact B
 eth Buschard-Steiger (bbuscha@wustl.edu) for Zoom Details
X-ALT-DESC;FMTTYPE=text/html: <h3 style="text-align: center\;">"Management 
 of Portal Hypertension: Banding\, TIPS\, BRTO\, and Beyond"</h3><p style="t
 ext-align: center\;"><h5 class="washu-ppi-name entry-title" style="text-ali
 gn: center\;"><span class="entry-title-link">Megan White\, MD</span></h5><p
  class="washu-ppi-description" style="text-align: center\;">Assistant Profe
 ssor of Medicine</p><p style="text-align: center\;"><p style="text-align: c
 enter\;">Please Contact Beth Buschard-Steiger (<a href="mailto:bbuscha@wust
 l.edu">bbuscha@wustl.edu</a>) for Zoom Details</p>
CATEGORIES:Core Conference
LOCATION:Zoom
GEO:38.635144;-90.262929
ORGANIZER;CN="Leslie":MAILTO:larnold@wustl.edu
URL;VALUE=URI:https://gastro.wustl.edu/events/event/core-conference-79/
END:VEVENT
BEGIN:VTIMEZONE
TZID:America/Chicago
BEGIN:DAYLIGHT
TZOFFSETFROM:-0600
TZOFFSETTO:-0500
DTSTART:20250309T080000
TZNAME:CDT
END:DAYLIGHT
END:VTIMEZONE
END:VCALENDAR
