BEGIN:VCALENDAR
VERSION:2.0
PRODID:-//Division of Gastroenterology//NONSGML Events//EN
CALSCALE:GREGORIAN
X-ORIGINAL-URL:https://gastro.wustl.edu/events/
X-WR-CALDESC:Division of Gastroenterology - Events
BEGIN:VEVENT
UID:20250912T2030Z-1757709000.9165-EO-11414-1@10.73.3.231
STATUS:CONFIRMED
DTSTAMP:20260422T151759Z
CREATED:20250912T202300Z
LAST-MODIFIED:20250912T202300Z
DTSTART;TZID=America/Chicago:20250924T070000
DTEND;TZID=America/Chicago:20250924T080000
SUMMARY: Core Conference
DESCRIPTION: “Endoscopic Management of Perforations and Fistulas” Vladimir 
 Kushnir\, MD Professor of Medicine Director\, Endoscopic Research Director\
 , Bariatric Endoscopy Director\, Interventional Endoscopy Director\, Advanc
 ed Interventional Fellowship Program Please Contact Beth Buschard-Steiger (
 bbuscha@wustl.edu) for Zoom Details
X-ALT-DESC;FMTTYPE=text/html: <h4 style="text-align: center\;">"Endoscopic 
 Management of Perforations and Fistulas"</h4><p style="text-align: center\;
 "><h5 class="washu-ppi-name entry-title" style="text-align: center\;"><span
  class="entry-title-link">Vladimir Kushnir\, MD</span></h5><p class="washu-
 ppi-description" style="text-align: center\;">Professor of Medicine<br />Di
 rector\, Endoscopic Research<br />Director\, Bariatric Endoscopy<br />Direc
 tor\, Interventional Endoscopy<br />Director\, Advanced Interventional Fell
 owship Program</p><p style="text-align: center\;"><p style="text-align: cen
 ter\;">Please Contact Beth Buschard-Steiger (<a href="mailto:bbuscha@wustl.
 edu">bbuscha@wustl.edu</a>) for Zoom Details</p>
CATEGORIES:Core Conference
LOCATION:Zoom
GEO:38.635144;-90.262929
ORGANIZER;CN="Leslie":MAILTO:larnold@wustl.edu
URL;VALUE=URI:https://gastro.wustl.edu/events/event/core-conference-78/
END:VEVENT
BEGIN:VTIMEZONE
TZID:America/Chicago
BEGIN:DAYLIGHT
TZOFFSETFROM:-0600
TZOFFSETTO:-0500
DTSTART:20250309T080000
TZNAME:CDT
END:DAYLIGHT
END:VTIMEZONE
END:VCALENDAR
