BEGIN:VCALENDAR
VERSION:2.0
PRODID:-//Division of Gastroenterology//NONSGML Events//EN
CALSCALE:GREGORIAN
X-ORIGINAL-URL:https://gastro.wustl.edu/events/
X-WR-CALDESC:Division of Gastroenterology - Events
BEGIN:VEVENT
UID:20250912T1347Z-1757684853.0371-EO-11413-1@10.73.3.231
STATUS:CONFIRMED
DTSTAMP:20260422T143215Z
CREATED:20250912T133959Z
LAST-MODIFIED:20250912T133959Z
DTSTART;TZID=America/Chicago:20250917T070000
DTEND;TZID=America/Chicago:20250917T080000
SUMMARY: Core Conference
DESCRIPTION: “Endoscopic Management of Acute and Chronic Pancreatitis” Judy
  A. Trieu\, MD\, MPH Assistant Professor of Medicine   Please Contact Beth 
 Buschard-Steiger (bbuscha@wustl.edu) for Zoom Details
X-ALT-DESC;FMTTYPE=text/html: <h4 style="text-align: center\;"><em>"Endosco
 pic Management of Acute and Chronic Pancreatitis"</em></h4><h4 class="washu
 -ppi-name entry-title" style="text-align: center\;"><span class="entry-titl
 e-link">Judy A. Trieu\, MD\, MPH</span></h4><p class="washu-ppi-description
 " style="text-align: center\;">Assistant Professor of Medicine</p><p> </p><
 p style="text-align: center\;">Please Contact Beth Buschard-Steiger (<a hre
 f="mailto:bbuscha@wustl.edu">bbuscha@wustl.edu</a>) for Zoom Details</p>
CATEGORIES:Core Conference
LOCATION:Zoom
GEO:38.635144;-90.262929
ORGANIZER;CN="Leslie":MAILTO:larnold@wustl.edu
URL;VALUE=URI:https://gastro.wustl.edu/events/event/core-conference-77/
END:VEVENT
BEGIN:VTIMEZONE
TZID:America/Chicago
BEGIN:DAYLIGHT
TZOFFSETFROM:-0600
TZOFFSETTO:-0500
DTSTART:20250309T080000
TZNAME:CDT
END:DAYLIGHT
END:VTIMEZONE
END:VCALENDAR
