BEGIN:VCALENDAR
VERSION:2.0
PRODID:-//Division of Gastroenterology//NONSGML Events//EN
CALSCALE:GREGORIAN
X-ORIGINAL-URL:https://gastro.wustl.edu/events/
X-WR-CALDESC:Division of Gastroenterology - Events
BEGIN:VEVENT
UID:20250429T1705Z-1745946336.147-EO-11188-1@10.73.10.131
STATUS:CONFIRMED
DTSTAMP:20260417T225956Z
CREATED:20250429T165256Z
LAST-MODIFIED:20250429T165256Z
DTSTART;TZID=America/Chicago:20250507T070000
DTEND;TZID=America/Chicago:20250507T080000
SUMMARY: Core Conference
DESCRIPTION: Robert M. MacGregor\, MD Assistant Professor of Medicine “Anti
 reflux Surgery Versus Antireflux Medication in the Management of Chronic GE
 RD” Please Contact Beth Buschard-Steiger (bbuscha@wustl.edu) for Zoom detai
 ls
X-ALT-DESC;FMTTYPE=text/html: <h5 style="text-align: center\;">Robert M. Ma
 cGregor\, MD</h5><h5 style="text-align: center\;">Assistant Professor of Me
 dicine</h5><h5 style="text-align: center\;">“Antireflux Surgery Versus Anti
 reflux Medication in the Management of Chronic GERD”</h5><h5 style="text-al
 ign: center\;"></h5><p style="text-align: center\;">Please Contact Beth Bus
 chard-Steiger (<a href="mailto:bbuscha@wustl.edu">bbuscha@wustl.edu</a>) fo
 r Zoom details</p><div class="map"><div id="eo_venue_map-2" class="eo-venue
 -map googlemap"><div></div></div></div>
CATEGORIES:Core Conference
LOCATION:Zoom
GEO:38.635144;-90.262929
ORGANIZER;CN="Leslie":MAILTO:larnold@wustl.edu
URL;VALUE=URI:https://gastro.wustl.edu/events/event/core-conference-76/
END:VEVENT
BEGIN:VTIMEZONE
TZID:America/Chicago
BEGIN:DAYLIGHT
TZOFFSETFROM:-0600
TZOFFSETTO:-0500
DTSTART:20250309T080000
TZNAME:CDT
END:DAYLIGHT
END:VTIMEZONE
END:VCALENDAR
