BEGIN:VCALENDAR
VERSION:2.0
PRODID:-//Division of Gastroenterology//NONSGML Events//EN
CALSCALE:GREGORIAN
X-ORIGINAL-URL:https://gastro.wustl.edu/events/
X-WR-CALDESC:Division of Gastroenterology - Events
BEGIN:VEVENT
UID:20250415T1736Z-1744738613.3696-EO-11173-1@10.73.10.131
STATUS:CONFIRMED
DTSTAMP:20260417T225954Z
CREATED:20250415T172902Z
LAST-MODIFIED:20250415T172902Z
DTSTART;TZID=America/Chicago:20250430T070000
DTEND;TZID=America/Chicago:20250430T080000
SUMMARY: Core Conference
DESCRIPTION: TBD Juan Reyes Genere\, MD Assistant Professor of Medicine Dir
 ector\, Interventional IBD Please Contact Beth Buschard-Steiger (bbuscha@wu
 stl.edu) for Zoom Details
X-ALT-DESC;FMTTYPE=text/html: <h5 style="text-align: center\;">TBD</h5><h5 
 class="washu-ppi-name entry-title" style="text-align: center\;"><span class
 ="entry-title-link">Juan Reyes Genere\, MD</span></h5><h5 class="washu-ppi-
 description" style="text-align: center\;">Assistant Professor of Medicine<b
 r />Director\, Interventional IBD</h5><h5 style="text-align: center\;"></h5
 ><h5 style="text-align: center\;">Please Contact Beth Buschard-Steiger (<a 
 href="mailto:bbuscha@wustl.edu">bbuscha@wustl.edu</a>) for Zoom Details</h5
 >
CATEGORIES:Core Conference
LOCATION:Zoom
GEO:38.635144;-90.262929
ORGANIZER;CN="Leslie":MAILTO:larnold@wustl.edu
URL;VALUE=URI:https://gastro.wustl.edu/events/event/core-conference-74/
END:VEVENT
BEGIN:VTIMEZONE
TZID:America/Chicago
BEGIN:DAYLIGHT
TZOFFSETFROM:-0600
TZOFFSETTO:-0500
DTSTART:20250309T080000
TZNAME:CDT
END:DAYLIGHT
END:VTIMEZONE
END:VCALENDAR
