BEGIN:VCALENDAR
VERSION:2.0
PRODID:-//Division of Gastroenterology//NONSGML Events//EN
CALSCALE:GREGORIAN
X-ORIGINAL-URL:https://gastro.wustl.edu/events/
X-WR-CALDESC:Division of Gastroenterology - Events
BEGIN:VEVENT
UID:20250410T1311Z-1744290690.9981-EO-11161-1@10.73.10.131
STATUS:CONFIRMED
DTSTAMP:20260417T225951Z
CREATED:20250410T130718Z
LAST-MODIFIED:20250410T130748Z
DTSTART;TZID=America/Chicago:20250416T070000
DTEND;TZID=America/Chicago:20250416T080000
SUMMARY: Core Conference
DESCRIPTION: “EoE” Sandeep Tripathy\, MD\, PhD Associate Professor of Medic
 ine   Please Contact Beth Buschard-Steiger (bbuscha@wustl.edu) for Zoom Det
 ails
X-ALT-DESC;FMTTYPE=text/html: <h3 style="text-align: center\;"><em>"EoE"</e
 m></h3><h5 class="washu-ppi-name entry-title" style="text-align: center\;">
 <span class="entry-title-link">Sandeep Tripathy\, MD\, PhD</span></h5><h5 c
 lass="washu-ppi-description" style="text-align: center\;">Associate Profess
 or of Medicine</h5><p> </p><h5>Please Contact Beth Buschard-Steiger (<a hre
 f="mailto:bbuscha@wustl.edu">bbuscha@wustl.edu</a>) for Zoom Details</h5>
CATEGORIES:Core Conference
LOCATION:Zoom
GEO:38.635144;-90.262929
ORGANIZER;CN="Leslie":MAILTO:larnold@wustl.edu
URL;VALUE=URI:https://gastro.wustl.edu/events/event/core-conference-73/
END:VEVENT
BEGIN:VTIMEZONE
TZID:America/Chicago
BEGIN:DAYLIGHT
TZOFFSETFROM:-0600
TZOFFSETTO:-0500
DTSTART:20250309T080000
TZNAME:CDT
END:DAYLIGHT
END:VTIMEZONE
END:VCALENDAR
