BEGIN:VCALENDAR
VERSION:2.0
PRODID:-//Division of Gastroenterology//NONSGML Events//EN
CALSCALE:GREGORIAN
X-ORIGINAL-URL:https://gastro.wustl.edu/events/
X-WR-CALDESC:Division of Gastroenterology - Events
BEGIN:VEVENT
UID:20250321T1658Z-1742576309.9641-EO-11138-1@10.73.10.131
STATUS:CONFIRMED
DTSTAMP:20260417T225957Z
CREATED:20250321T164448Z
LAST-MODIFIED:20250321T164453Z
DTSTART;TZID=America/Chicago:20250326T070000
DTEND;TZID=America/Chicago:20250326T080000
SUMMARY: Core Conference
DESCRIPTION: “GI Board Questions” Mohammad Ismail\, MD\, AGAF Professor of 
 Medicine   Please Contact Beth Buschard-Steiger (bbuscha@wustl.edu) for Zoo
 m Details
X-ALT-DESC;FMTTYPE=text/html: <h4 style="text-align: center\;"><em>"GI Boar
 d Questions"</em></h4><h5 style="text-align: center\;">Mohammad Ismail\, MD
 \, AGAF<br />Professor of Medicine</h5><p> </p><p style="text-align: center
 \;">Please Contact Beth Buschard-Steiger (<a href="mailto:bbuscha@wustl.edu
 ">bbuscha@wustl.edu</a>) for Zoom Details</p>
CATEGORIES:Core Conference
LOCATION:Zoom
GEO:38.635144;-90.262929
ORGANIZER;CN="Leslie":MAILTO:larnold@wustl.edu
URL;VALUE=URI:https://gastro.wustl.edu/events/event/core-conference-71/
END:VEVENT
BEGIN:VTIMEZONE
TZID:America/Chicago
BEGIN:DAYLIGHT
TZOFFSETFROM:-0600
TZOFFSETTO:-0500
DTSTART:20250309T080000
TZNAME:CDT
END:DAYLIGHT
END:VTIMEZONE
END:VCALENDAR
