BEGIN:VCALENDAR
VERSION:2.0
PRODID:-//Division of Gastroenterology//NONSGML Events//EN
CALSCALE:GREGORIAN
X-ORIGINAL-URL:https://gastro.wustl.edu/events/
X-WR-CALDESC:Division of Gastroenterology - Events
BEGIN:VEVENT
UID:20250307T1723Z-1741368216.0375-EO-11127-1@10.73.10.131
STATUS:CONFIRMED
DTSTAMP:20260417T225954Z
CREATED:20250307T171000Z
LAST-MODIFIED:20250307T171007Z
DTSTART;TZID=America/Chicago:20250312T070000
DTEND;TZID=America/Chicago:20250312T080000
SUMMARY: Core Conference
DESCRIPTION: “Gastroparesis” Richa Bhardwaj\, MD Assistant Professor of Med
 icine   Please Contact Beth Buschard-Steiger (bbuscha@wustl.edu) for Zoom D
 etails
X-ALT-DESC;FMTTYPE=text/html: <h4 style="text-align: center\;"><em>"Gastrop
 aresis"</em></h4><p style="text-align: center\;">Richa Bhardwaj\, MD<br />A
 ssistant Professor of Medicine</p><p> </p><p style="text-align: center\;">P
 lease Contact Beth Buschard-Steiger (<a href="mailto:bbuscha@wustl.edu">bbu
 scha@wustl.edu</a>) for Zoom Details</p>
CATEGORIES:Core Conference
LOCATION:Zoom
GEO:38.635144;-90.262929
ORGANIZER;CN="Leslie":MAILTO:larnold@wustl.edu
URL;VALUE=URI:https://gastro.wustl.edu/events/event/core-conference-70/
END:VEVENT
BEGIN:VTIMEZONE
TZID:America/Chicago
BEGIN:DAYLIGHT
TZOFFSETFROM:-0600
TZOFFSETTO:-0500
DTSTART:20250309T080000
TZNAME:CDT
END:DAYLIGHT
END:VTIMEZONE
END:VCALENDAR
