BEGIN:VCALENDAR
VERSION:2.0
PRODID:-//Division of Gastroenterology//NONSGML Events//EN
CALSCALE:GREGORIAN
X-ORIGINAL-URL:https://gastro.wustl.edu/events/
X-WR-CALDESC:Division of Gastroenterology - Events
BEGIN:VEVENT
UID:20250131T1651Z-1738342312.1858-EO-11055-1@10.73.10.131
STATUS:CONFIRMED
DTSTAMP:20260423T050903Z
CREATED:20250131T164021Z
LAST-MODIFIED:20250131T164027Z
DTSTART;TZID=America/Chicago:20250205T070000
DTEND;TZID=America/Chicago:20250205T080000
SUMMARY: Core Conference
DESCRIPTION: Jill Elwing\, MD Assistant Professor of Medicine “Obesity Mana
 gement”   Please Contact Beth Buschard-Steiger (bbuscha@wustl.edu) for Zoom
  Details  
X-ALT-DESC;FMTTYPE=text/html: <h4 style="text-align: center\;">Jill Elwing\
 , MD<br />Assistant Professor of Medicine</h4><h5 style="text-align: center
 \;"><em>"Obesity Management"</em></h5><p> </p><p style="text-align: center\
 ;">Please Contact Beth Buschard-Steiger (<a href="mailto:bbuscha@wustl.edu"
 >bbuscha@wustl.edu</a>) for Zoom Details</p><p> </p>
CATEGORIES:Core Conference
LOCATION:Zoom
GEO:38.635144;-90.262929
ORGANIZER;CN="Leslie":MAILTO:larnold@wustl.edu
URL;VALUE=URI:https://gastro.wustl.edu/events/event/core-conference-67/
END:VEVENT
BEGIN:VTIMEZONE
TZID:America/Chicago
BEGIN:STANDARD
TZOFFSETFROM:-0500
TZOFFSETTO:-0600
DTSTART:20241103T070000
TZNAME:CST
END:STANDARD
END:VTIMEZONE
END:VCALENDAR
