BEGIN:VCALENDAR
VERSION:2.0
PRODID:-//Division of Gastroenterology//NONSGML Events//EN
CALSCALE:GREGORIAN
X-ORIGINAL-URL:https://gastro.wustl.edu/events/
X-WR-CALDESC:Division of Gastroenterology - Events
BEGIN:VEVENT
UID:20250124T1749Z-1737740997.1766-EO-11045-1@10.73.10.131
STATUS:CONFIRMED
DTSTAMP:20260423T070235Z
CREATED:20250124T174557Z
LAST-MODIFIED:20250124T174557Z
DTSTART;TZID=America/Chicago:20250129T120000
DTEND;TZID=America/Chicago:20250129T130000
SUMMARY: Core Conference
DESCRIPTION: “HCC Update:  Cut\, Burn\, Irradiate\, Transplant” Parth K. Sh
 ah\, MD Assistant Professor of Medicine . Please Contact Beth Buschard-Stei
 ger (bbuscha@wustl.edu) for Zoom Details  
X-ALT-DESC;FMTTYPE=text/html: <h4 style="text-align: center\;"><em>"HCC Upd
 ate:  Cut\, Burn\, Irradiate\, Transplant"</em></h4><h5 style="text-align: 
 center\;">Parth K. Shah\, MD<br />Assistant Professor of Medicine</h5><p>.<
 /p><p style="text-align: center\;">Please Contact Beth Buschard-Steiger (<a
  href="mailto:bbuscha@wustl.edu">bbuscha@wustl.edu</a>) for Zoom Details</p
 ><p> </p>
CATEGORIES:Core Conference
LOCATION:Zoom
GEO:38.635144;-90.262929
ORGANIZER;CN="Leslie":MAILTO:larnold@wustl.edu
URL;VALUE=URI:https://gastro.wustl.edu/events/event/core-conference-66/
END:VEVENT
BEGIN:VTIMEZONE
TZID:America/Chicago
BEGIN:STANDARD
TZOFFSETFROM:-0500
TZOFFSETTO:-0600
DTSTART:20241103T070000
TZNAME:CST
END:STANDARD
END:VTIMEZONE
END:VCALENDAR
