BEGIN:VCALENDAR
VERSION:2.0
PRODID:-//Division of Gastroenterology//NONSGML Events//EN
CALSCALE:GREGORIAN
X-ORIGINAL-URL:https://gastro.wustl.edu/events/
X-WR-CALDESC:Division of Gastroenterology - Events
BEGIN:VEVENT
UID:20241217T2235Z-1734474922.843-EO-10973-1@10.24.106.144
STATUS:CONFIRMED
DTSTAMP:20260423T112556Z
CREATED:20241217T221841Z
LAST-MODIFIED:20241217T221851Z
DTSTART;TZID=America/Chicago:20241218T070000
DTEND;TZID=America/Chicago:20241218T080000
SUMMARY: Core Conference
DESCRIPTION: “Biliary Obstruction: Differential\, Diagnosis\, and Managemen
 t” Mohammad Ismail\, MD\, AGAF Professor of Medicine   Please Contact Beth 
 Buschard-Steiger (bbuscha@wustl.edu) for Zoom Details  
X-ALT-DESC;FMTTYPE=text/html: <p style="text-align: center\;">"Biliary Obst
 ruction: Differential\, Diagnosis\, and Management"</p><p style="text-align
 : center\;">Mohammad Ismail\, MD\, AGAF</p><p style="text-align: center\;">
 Professor of Medicine</p><p> </p><p style="text-align: center\;">Please Con
 tact Beth Buschard-Steiger (<a href="mailto:bbuscha@wustl.edu">bbuscha@wust
 l.edu</a>) for Zoom Details</p><p> </p>
CATEGORIES:Core Conference
LOCATION:Zoom
GEO:38.635144;-90.262929
ORGANIZER;CN="Leslie":MAILTO:larnold@wustl.edu
URL;VALUE=URI:https://gastro.wustl.edu/events/event/core-conference-62/
END:VEVENT
BEGIN:VTIMEZONE
TZID:America/Chicago
BEGIN:STANDARD
TZOFFSETFROM:-0500
TZOFFSETTO:-0600
DTSTART:20241103T070000
TZNAME:CST
END:STANDARD
END:VTIMEZONE
END:VCALENDAR
