BEGIN:VCALENDAR
VERSION:2.0
PRODID:-//Division of Gastroenterology//NONSGML Events//EN
CALSCALE:GREGORIAN
X-ORIGINAL-URL:https://gastro.wustl.edu/events/
X-WR-CALDESC:Division of Gastroenterology - Events
BEGIN:VEVENT
UID:20241209T1732Z-1733765527.2984-EO-10953-1@10.24.106.144
STATUS:CONFIRMED
DTSTAMP:20260423T112555Z
CREATED:20241209T172642Z
LAST-MODIFIED:20241209T172648Z
DTSTART;TZID=America/Chicago:20241211T070000
DTEND;TZID=America/Chicago:20241211T080000
SUMMARY: Core Conference
DESCRIPTION: EndoHepatology is now! Ahmad Najat Bazarbashi\, MD Assistant P
 rofessor of Medicine Director\, Third Space Endoscopy Program Program Direc
 tor\, Advanced Endoscopy Fellowship   Please Contact Beth Buschard-Steiger 
 (bbuscha@wustl.edu) for Zoom Details
X-ALT-DESC;FMTTYPE=text/html: <h4 style="text-align: center\;"><em>EndoHepa
 tology is now!</em></h4><p style="text-align: center\;">Ahmad Najat Bazarba
 shi\, MD<br />Assistant Professor of Medicine<br />Director\, Third Space E
 ndoscopy Program<br />Program Director\, Advanced Endoscopy Fellowship</p><
 p> </p><p style="text-align: center\;">Please Contact Beth Buschard-Steiger
  (<a href="mailto:bbuscha@wustl.edu">bbuscha@wustl.edu</a>) for Zoom Detail
 s</p>
CATEGORIES:Core Conference
LOCATION:Zoom
GEO:38.635144;-90.262929
ORGANIZER;CN="Leslie":MAILTO:larnold@wustl.edu
URL;VALUE=URI:https://gastro.wustl.edu/events/event/core-conference-61/
END:VEVENT
BEGIN:VTIMEZONE
TZID:America/Chicago
BEGIN:STANDARD
TZOFFSETFROM:-0500
TZOFFSETTO:-0600
DTSTART:20241103T070000
TZNAME:CST
END:STANDARD
END:VTIMEZONE
END:VCALENDAR
