BEGIN:VCALENDAR
VERSION:2.0
PRODID:-//Division of Gastroenterology//NONSGML Events//EN
CALSCALE:GREGORIAN
X-ORIGINAL-URL:https://gastro.wustl.edu/events/
X-WR-CALDESC:Division of Gastroenterology - Events
BEGIN:VEVENT
UID:20241108T1523Z-1731079396.7493-EO-10897-1@10.24.106.144
STATUS:CONFIRMED
DTSTAMP:20260423T154310Z
CREATED:20241108T151717Z
LAST-MODIFIED:20241108T151727Z
DTSTART;TZID=America/Chicago:20241112T070000
DTEND;TZID=America/Chicago:20241112T080000
SUMMARY: Core Conference
DESCRIPTION: “Pelvic Physical Therapy: What Do We Do?” Megan Burgess\, PT\,
  DPT\, OCS\, WCS Assistant Professor of Physical Therapy     Please Contact
  Beth Buschard-Steiger (bbuscha@wustl.edu) for Zoom Details  
X-ALT-DESC;FMTTYPE=text/html: <h3 style="text-align: center\;"><em>"Pelvic 
 Physical Therapy: What Do We Do?"</em></h3><h4 style="text-align: center\;"
 >Megan Burgess\, PT\, DPT\, OCS\, WCS<br />Assistant Professor of Physical 
 Therapy</h4><p> </p><p> </p><p style="text-align: center\;">Please Contact 
 Beth Buschard-Steiger (<a href="mailto:bbuscha@wustl.edu">bbuscha@wustl.edu
 </a>) for Zoom Details</p><p> </p>
CATEGORIES:Core Conference
LOCATION:Zoom
GEO:38.635144;-90.262929
ORGANIZER;CN="Leslie":MAILTO:larnold@wustl.edu
URL;VALUE=URI:https://gastro.wustl.edu/events/event/core-conference-58/
END:VEVENT
BEGIN:VTIMEZONE
TZID:America/Chicago
BEGIN:STANDARD
TZOFFSETFROM:-0500
TZOFFSETTO:-0600
DTSTART:20241103T070000
TZNAME:CST
END:STANDARD
END:VTIMEZONE
END:VCALENDAR
