BEGIN:VCALENDAR
VERSION:2.0
PRODID:-//Division of Gastroenterology//NONSGML Events//EN
CALSCALE:GREGORIAN
X-ORIGINAL-URL:https://gastro.wustl.edu/events/
X-WR-CALDESC:Division of Gastroenterology - Events
BEGIN:VEVENT
UID:20241011T1933Z-1728675196.1305-EO-10853-1@10.24.106.144
STATUS:CONFIRMED
DTSTAMP:20260424T125004Z
CREATED:20241011T193227Z
LAST-MODIFIED:20241011T193240Z
DTSTART;TZID=America/Chicago:20241015T070000
DTEND;TZID=America/Chicago:20241015T080000
SUMMARY: Core Conference
DESCRIPTION: “EUS-guided gallbladder drainage for gallstone-related disease
 ” Judy A. Trieu\, MD\, MPH Assistant Professor of Medicine   Please Contact
  Beth Buschard-Steiger (bbuscha@wustl.edu) for Zoom Details
X-ALT-DESC;FMTTYPE=text/html: <h4 style="text-align: center\;"><em>"EUS-gui
 ded gallbladder drainage for gallstone-related disease"</em></h4><h5 style=
 "text-align: center\;">Judy A. Trieu\, MD\, MPH<br />Assistant Professor of
  Medicine</h5><p> </p><p style="text-align: center\;">Please Contact Beth B
 uschard-Steiger (<a href="mailto:bbuscha@wustl.edu">bbuscha@wustl.edu</a>) 
 for Zoom Details</p>
CATEGORIES:Core Conference
LOCATION:Zoom
GEO:38.635144;-90.262929
ORGANIZER;CN="Leslie":MAILTO:larnold@wustl.edu
URL;VALUE=URI:https://gastro.wustl.edu/events/event/core-conference-52/
END:VEVENT
BEGIN:VTIMEZONE
TZID:America/Chicago
BEGIN:DAYLIGHT
TZOFFSETFROM:-0600
TZOFFSETTO:-0500
DTSTART:20240310T080000
TZNAME:CDT
END:DAYLIGHT
END:VTIMEZONE
END:VCALENDAR
