BEGIN:VCALENDAR
VERSION:2.0
PRODID:-//Division of Gastroenterology//NONSGML Events//EN
CALSCALE:GREGORIAN
X-ORIGINAL-URL:https://gastro.wustl.edu/events/
X-WR-CALDESC:Division of Gastroenterology - Events
BEGIN:VEVENT
UID:20241004T1346Z-1728049563.3345-EO-10838-1@10.24.106.144
STATUS:CONFIRMED
DTSTAMP:20260422T084152Z
CREATED:20241004T133848Z
LAST-MODIFIED:20241004T133910Z
DTSTART;TZID=America/Chicago:20241009T070000
DTEND;TZID=America/Chicago:20241009T080000
SUMMARY: Core Conference
DESCRIPTION: Modern approach to GERD diagnosis C. Prakash Gyawali\, MD\, MR
 CP Professor of Medicine Director\, GI Fellowship Training Program Director
 \, Neurogastroenterology and Motility Program     Please Contact Beth Busch
 ard-Steiger (bbuscha@wustl.edu) for Zoom Details
X-ALT-DESC;FMTTYPE=text/html: <h4 style="text-align: center\;">Modern appro
 ach to GERD diagnosis</h4><h5 style="text-align: center\;">C. Prakash Gyawa
 li\, MD\, MRCP<br />Professor of Medicine<br />Director\, GI Fellowship Tra
 ining Program<br />Director\, Neurogastroenterology and Motility Program</h
 5><p> </p><p> </p><p style="text-align: center\;">Please Contact Beth Busch
 ard-Steiger (<a href="mailto:bbuscha@wustl.edu">bbuscha@wustl.edu</a>) for 
 Zoom Details</p>
CATEGORIES:Core Conference
LOCATION:Zoom
GEO:38.635144;-90.262929
ORGANIZER;CN="Leslie":MAILTO:larnold@wustl.edu
URL;VALUE=URI:https://gastro.wustl.edu/events/event/core-conference-51/
END:VEVENT
BEGIN:VTIMEZONE
TZID:America/Chicago
BEGIN:DAYLIGHT
TZOFFSETFROM:-0600
TZOFFSETTO:-0500
DTSTART:20240310T080000
TZNAME:CDT
END:DAYLIGHT
END:VTIMEZONE
END:VCALENDAR
