BEGIN:VCALENDAR
VERSION:2.0
PRODID:-//Division of Gastroenterology//NONSGML Events//EN
CALSCALE:GREGORIAN
X-ORIGINAL-URL:https://gastro.wustl.edu/events/
X-WR-CALDESC:Division of Gastroenterology - Events
BEGIN:VEVENT
UID:20241004T1346Z-1728049563.3186-EO-10837-1@10.24.106.144
STATUS:CONFIRMED
DTSTAMP:20260424T125004Z
CREATED:20241004T133708Z
LAST-MODIFIED:20241004T133725Z
DTSTART;TZID=America/Chicago:20241008T070000
DTEND;TZID=America/Chicago:20241008T080000
SUMMARY: Core Conference
DESCRIPTION: “Update on colonic diverticulitis” Surachai Amornsawadwattana\
 , MD Assistant Professor of Medicine     Please Contact Beth Buschard-Steig
 er (bbuscha@wustl.edu) for Zoom Details
X-ALT-DESC;FMTTYPE=text/html: <h4 style="text-align: center\;"><em>"Update 
 on colonic diverticulitis"</em></h4><h5 style="text-align: center\;">Surach
 ai Amornsawadwattana\, MD<br />Assistant Professor of Medicine</h5><p> </p>
 <p> </p><p style="text-align: center\;">Please Contact Beth Buschard-Steige
 r (<a href="mailto:bbuscha@wustl.edu">bbuscha@wustl.edu</a>) for Zoom Detai
 ls</p>
CATEGORIES:Core Conference
LOCATION:Zoom
GEO:38.635144;-90.262929
ORGANIZER;CN="Leslie":MAILTO:larnold@wustl.edu
URL;VALUE=URI:https://gastro.wustl.edu/events/event/core-conference-50/
END:VEVENT
BEGIN:VTIMEZONE
TZID:America/Chicago
BEGIN:DAYLIGHT
TZOFFSETFROM:-0600
TZOFFSETTO:-0500
DTSTART:20240310T080000
TZNAME:CDT
END:DAYLIGHT
END:VTIMEZONE
END:VCALENDAR
