BEGIN:VCALENDAR
VERSION:2.0
PRODID:-//Division of Gastroenterology//NONSGML Events//EN
CALSCALE:GREGORIAN
X-ORIGINAL-URL:https://gastro.wustl.edu/events/
X-WR-CALDESC:Division of Gastroenterology - Events
BEGIN:VEVENT
UID:20240919T1708Z-1726765721.993-EO-10821-1@10.24.106.144
STATUS:CONFIRMED
DTSTAMP:20260424T190740Z
CREATED:20240919T170448Z
LAST-MODIFIED:20240919T170448Z
DTSTART;TZID=America/Chicago:20240925T070000
DTEND;TZID=America/Chicago:20240925T080000
SUMMARY: Core Conference
DESCRIPTION: “Ostomy 201” Richard P Rood\, MD\, FACP\, FACG\, AGAF\, FASGE 
 Professor of Medicine     Please Contact Beth Buschard-Steiger (bbuscha@wus
 tl.edu) for Zoom Details
X-ALT-DESC;FMTTYPE=text/html: <h4 style="text-align: center\;"><em>"Ostomy 
 201"</em></h4><h5 style="text-align: center\;">Richard P Rood\, MD\, FACP\,
  FACG\, AGAF\, FASGE<br />Professor of Medicine</h5><p> </p><p> </p><p styl
 e="text-align: center\;">Please Contact Beth Buschard-Steiger (<a href="mai
 lto:bbuscha@wustl.edu">bbuscha@wustl.edu</a>) for Zoom Details</p>
CATEGORIES:Core Conference
LOCATION:Zoom
GEO:38.635144;-90.262929
ORGANIZER;CN="Leslie":MAILTO:larnold@wustl.edu
URL;VALUE=URI:https://gastro.wustl.edu/events/event/core-conference-49/
END:VEVENT
BEGIN:VTIMEZONE
TZID:America/Chicago
BEGIN:DAYLIGHT
TZOFFSETFROM:-0600
TZOFFSETTO:-0500
DTSTART:20240310T080000
TZNAME:CDT
END:DAYLIGHT
END:VTIMEZONE
END:VCALENDAR
