BEGIN:VCALENDAR
VERSION:2.0
PRODID:-//Division of Gastroenterology//NONSGML Events//EN
CALSCALE:GREGORIAN
X-ORIGINAL-URL:https://gastro.wustl.edu/events/
X-WR-CALDESC:Division of Gastroenterology - Events
BEGIN:VEVENT
UID:20240429T1627Z-1714408035.9043-EO-10432-1@172.23.128.18
STATUS:CONFIRMED
DTSTAMP:20260419T225814Z
CREATED:20240429T162659Z
LAST-MODIFIED:20240429T162659Z
DTSTART;TZID=America/Chicago:20240430T070000
DTEND;TZID=America/Chicago:20240430T080000
SUMMARY: Core Conference
DESCRIPTION: GVHD Dilan A. Patel\, MD Assistant Professor Division of Oncol
 ogy   Please Contact Beth Buschard-Steiger (bbuscha@wustl.edu) for Zoom Det
 ails
X-ALT-DESC;FMTTYPE=text/html: <h3 style="text-align: center\;"><em>GVHD</em
 ></h3><h4 style="text-align: center\;">Dilan A. Patel\, MD<br />Assistant P
 rofessor<br />Division of Oncology</h4><p> </p><p style="text-align: center
 \;"><p style="text-align: center\;">Please Contact Beth Buschard-Steiger (<
 a href="mailto:bbuscha@wustl.edu">bbuscha@wustl.edu</a>) for Zoom Details</
 p><p style="text-align: center\;">
CATEGORIES:Core Conference
LOCATION:Zoom
GEO:38.635144;-90.262929
ORGANIZER;CN="Leslie":MAILTO:larnold@wustl.edu
URL;VALUE=URI:https://gastro.wustl.edu/events/event/core-conference-46/
END:VEVENT
BEGIN:VTIMEZONE
TZID:America/Chicago
BEGIN:DAYLIGHT
TZOFFSETFROM:-0600
TZOFFSETTO:-0500
DTSTART:20240310T080000
TZNAME:CDT
END:DAYLIGHT
END:VTIMEZONE
END:VCALENDAR
