BEGIN:VCALENDAR
VERSION:2.0
PRODID:-//Division of Gastroenterology//NONSGML Events//EN
CALSCALE:GREGORIAN
X-ORIGINAL-URL:https://gastro.wustl.edu/events/
X-WR-CALDESC:Division of Gastroenterology - Events
BEGIN:VEVENT
UID:20250429T1723Z-1745947430.9983-EO-11192-1@10.73.10.131
STATUS:CONFIRMED
DTSTAMP:20260417T225952Z
CREATED:20250429T170716Z
LAST-MODIFIED:20250429T170716Z
DTSTART;TZID=America/Chicago:20250527T070000
DTEND;TZID=America/Chicago:20250527T080000
SUMMARY: AM Division Rounds
DESCRIPTION: Bradley Busebee\, MD & Shivani Mattay\, MD Please Contact Beth
  Buschard-Steiger (bbuscha@wustl.edu) for Zoom Details
X-ALT-DESC;FMTTYPE=text/html: <h5 class="washu-ppi-name entry-title" style=
 "text-align: center\;"><span class="entry-title-span">Bradley Busebee\, MD<
 /span></h5><h5 style="text-align: center\;">&</h5><h5 class="washu-ppi-name
  entry-title" style="text-align: center\;"><span class="entry-title-span">S
 hivani Mattay\, MD</span></h5><h5 style="text-align: center\;"></h5><p styl
 e="text-align: center\;">Please Contact Beth Buschard-Steiger (<a href="mai
 lto:bbuscha@wustl.edu">bbuscha@wustl.edu</a>) for Zoom Details</p>
CATEGORIES:GI Division Rounds
LOCATION:Zoom
GEO:38.635144;-90.262929
ORGANIZER;CN="Leslie":MAILTO:larnold@wustl.edu
URL;VALUE=URI:https://gastro.wustl.edu/events/event/am-division-rounds-14/
END:VEVENT
BEGIN:VTIMEZONE
TZID:America/Chicago
BEGIN:DAYLIGHT
TZOFFSETFROM:-0600
TZOFFSETTO:-0500
DTSTART:20250309T080000
TZNAME:CDT
END:DAYLIGHT
END:VTIMEZONE
END:VCALENDAR
