BEGIN:VCALENDAR
VERSION:2.0
PRODID:-//Division of Gastroenterology//NONSGML Events//EN
CALSCALE:GREGORIAN
X-ORIGINAL-URL:https://gastro.wustl.edu/events/
X-WR-CALDESC:Division of Gastroenterology - Events
BEGIN:VEVENT
UID:20250415T1727Z-1744738034.4791-EO-11172-1@10.73.10.131
STATUS:CONFIRMED
DTSTAMP:20260417T225952Z
CREATED:20250415T172708Z
LAST-MODIFIED:20250415T172708Z
DTSTART;TZID=America/Chicago:20250429T070000
DTEND;TZID=America/Chicago:20250429T080000
SUMMARY: AM Division Rounds
DESCRIPTION: PCABs Rahul Peravali\, MD & TBD Alex Sievert\, MD Please Conta
 ct Beth Buschard-Steiger (bbuscha@wustl.edu) for Zoom Details
X-ALT-DESC;FMTTYPE=text/html: <h5 style="text-align: center\;">PCABs</h5><h
 5 class="washu-ppi-name entry-title" style="text-align: center\;"><span cla
 ss="entry-title-span">Rahul Peravali\, MD</span></h5><h5 style="text-align:
  center\;">&</h5><h5 style="text-align: center\;">TBD</h5><h5 class="washu-
 ppi-name entry-title" style="text-align: center\;"><span class="entry-title
 -span">Alex Sievert\, MD</span></h5><h5 style="text-align: center\;"></h5><
 h5 style="text-align: center\;">Please Contact Beth Buschard-Steiger (<a hr
 ef="mailto:bbuscha@wustl.edu">bbuscha@wustl.edu</a>) for Zoom Details</h5>
CATEGORIES:GI Division Rounds
LOCATION:Zoom
GEO:38.635144;-90.262929
ORGANIZER;CN="Leslie":MAILTO:larnold@wustl.edu
URL;VALUE=URI:https://gastro.wustl.edu/events/event/am-division-rounds-13/
END:VEVENT
BEGIN:VTIMEZONE
TZID:America/Chicago
BEGIN:DAYLIGHT
TZOFFSETFROM:-0600
TZOFFSETTO:-0500
DTSTART:20250309T080000
TZNAME:CDT
END:DAYLIGHT
END:VTIMEZONE
END:VCALENDAR
