BEGIN:VCALENDAR
VERSION:2.0
PRODID:-//Division of Gastroenterology//NONSGML Events//EN
CALSCALE:GREGORIAN
X-ORIGINAL-URL:https://gastro.wustl.edu/events/
X-WR-CALDESC:Division of Gastroenterology - Events
BEGIN:VEVENT
UID:20250321T1658Z-1742576309.9576-EO-11137-1@10.73.10.131
STATUS:CONFIRMED
DTSTAMP:20260417T225957Z
CREATED:20250321T164311Z
LAST-MODIFIED:20250321T164317Z
DTSTART;TZID=America/Chicago:20250324T070000
DTEND;TZID=America/Chicago:20250324T080000
SUMMARY: AM Division Rounds
DESCRIPTION: Matthew Vincent\, MBBS & Qianli Wang\, MD\, PhD   Please Conta
 ct Beth Buschard-Steiger (bbuscha@wustl.edu) for Zoom Details  
X-ALT-DESC;FMTTYPE=text/html: <h4 style="text-align: center\;">Matthew Vinc
 ent\, MBBS</h4><h4 style="text-align: center\;">&</h4><h4 style="text-align
 : center\;">Qianli Wang\, MD\, PhD</h4><p> </p><p style="text-align: center
 \;">Please Contact Beth Buschard-Steiger (<a href="mailto:bbuscha@wustl.edu
 ">bbuscha@wustl.edu</a>) for Zoom Details</p><p> </p>
CATEGORIES:GI Division Rounds
LOCATION:Zoom
GEO:38.635144;-90.262929
ORGANIZER;CN="Leslie":MAILTO:larnold@wustl.edu
URL;VALUE=URI:https://gastro.wustl.edu/events/event/am-division-rounds-12/
END:VEVENT
BEGIN:VTIMEZONE
TZID:America/Chicago
BEGIN:DAYLIGHT
TZOFFSETFROM:-0600
TZOFFSETTO:-0500
DTSTART:20250309T080000
TZNAME:CDT
END:DAYLIGHT
END:VTIMEZONE
END:VCALENDAR
