BEGIN:VCALENDAR
VERSION:2.0
PRODID:-//Division of Gastroenterology//NONSGML Events//EN
CALSCALE:GREGORIAN
X-ORIGINAL-URL:https://gastro.wustl.edu/events/
X-WR-CALDESC:Division of Gastroenterology - Events
BEGIN:VEVENT
UID:20240404T1831Z-1712255507.618-EO-10398-1@172.23.128.18
STATUS:CONFIRMED
DTSTAMP:20260417T225957Z
CREATED:20240404T182051Z
LAST-MODIFIED:20240416T133604Z
DTSTART;VALUE=DATE:20240905
DTEND;VALUE=DATE:20240907
SUMMARY: Advanced Endoscopy Course
DESCRIPTION: The course provides education in advanced therapeutic endoscop
 y through lectures and a hands-on program with expert faculty from WashU an
 d invited faculty around North America.   Presented by: Interventional Endo
 scopy Section\, WashU Medicine Course Director: Vladimir Kushnir\, MD\, FAS
 GE Planning Committee: Ahmad Bazarbashi\, MD\; Gabriel Lang\, MD\; Koushik 
 Das\, MD           Additional information can be found:  […]
X-ALT-DESC;FMTTYPE=text/html: <h5 style="text-align: center\;">The course p
 rovides education in advanced therapeutic endoscopy through lectures and a 
 hands-on program with expert faculty from WashU and invited faculty around 
 North America.</h5><p> </p><p style="text-align: center\;"><strong>Presente
 d by:</strong> Interventional Endoscopy Section\, WashU Medicine</p><p styl
 e="text-align: center\;"><strong>Course Director:</strong> <a href="https:/
 /gastro.wustl.edu/people/vladimir-kushnir-md/">Vladimir Kushnir\, MD\, FASG
 E</a></p><p style="text-align: center\;"><strong>Planning Committee:</stron
 g> <a href="https://gastro.wustl.edu/people/7012/">Ahmad Bazarbashi\, MD</a
 >\; <a href="https://gastro.wustl.edu/people/gabriel-lang-md/">Gabriel Lang
 \, MD</a>\; <a href="https://gastro.wustl.edu/people/koushik-das-md/">Koush
 ik Das\, MD</a></p><h5 style="text-align: center\;"><strong>          </str
 ong></h5><h5 style="text-align: center\;"><strong>Additional information ca
 n be found: </strong></h5><p style="text-align: center\;"><a href="https://
 internalmedicine.wustl.edu/events/event/advanced-endoscopy-course/">Advance
 d Endoscopy Course - John T. Milliken Department of Medicine (wustl.edu)</a
 ></p><p><span id="more-10398"></span></p><p> </p><p> </p>
LOCATION:Eric P. Newman Education Center
GEO:38.634745;-90.262682
ORGANIZER;CN="Leslie":MAILTO:larnold@wustl.edu
URL;VALUE=URI:https://gastro.wustl.edu/events/event/advanced-endoscopy-cour
 se/
END:VEVENT
BEGIN:VTIMEZONE
TZID:America/Chicago
BEGIN:DAYLIGHT
TZOFFSETFROM:-0600
TZOFFSETTO:-0500
DTSTART:20240310T080000
TZNAME:CDT
END:DAYLIGHT
END:VTIMEZONE
END:VCALENDAR
