BEGIN:VCALENDAR
VERSION:2.0
PRODID:-//Division of Gastroenterology//NONSGML Events//EN
CALSCALE:GREGORIAN
X-ORIGINAL-URL:https://gastro.wustl.edu/events/
X-WR-CALDESC:Division of Gastroenterology - Events
BEGIN:VEVENT
UID:20241209T1728Z-1733765326.0154-EO-10952-1@10.24.106.144
STATUS:CONFIRMED
DTSTAMP:20260423T130434Z
CREATED:20241209T172449Z
LAST-MODIFIED:20241209T173057Z
DTSTART;TZID=America/Chicago:20241210T070000
DTEND;TZID=America/Chicago:20241210T080000
SUMMARY: Journal Club
DESCRIPTION: Vonoprazan is Efficacious for Treatment of Heartburn in Non-er
 osive Reflux Disease: A Randomized Trial Deborah Adekunle\, MBChB\, MPH & S
 ubcutaneous Infliximab (CT-P13 SC) as Maintenance Therapy for Inflammatory 
 Bowel Disease: Two Randomized Phase 3 Trials (LIBERTY) Brett Riederman\, MD
    Please Contact Beth Buschard-Steiger (bbuscha@wustl.edu) for Zoom Detail
 s
X-ALT-DESC;FMTTYPE=text/html: <p style="text-align: center\;">Vonoprazan is
  Efficacious for Treatment of Heartburn in Non-erosive Reflux Disease: A Ra
 ndomized Trial</p><p style="text-align: center\;">Deborah Adekunle\, MBChB\
 , MPH</p><p style="text-align: center\;">&</p><p style="text-align: center\
 ;">Subcutaneous Infliximab (CT-P13 SC) as Maintenance Therapy for Inflammat
 ory Bowel Disease: Two Randomized Phase 3 Trials (LIBERTY)</p><p style="tex
 t-align: center\;">Brett Riederman\, MD</p><p> </p><p style="text-align: ce
 nter\;">Please Contact Beth Buschard-Steiger (<a href="mailto:bbuscha@wustl
 .edu">bbuscha@wustl.edu</a>) for Zoom Details</p>
CATEGORIES:Journal Club
LOCATION:Zoom
GEO:38.635144;-90.262929
ORGANIZER;CN="Leslie":MAILTO:larnold@wustl.edu
URL;VALUE=URI:https://gastro.wustl.edu/events/event/10952/
END:VEVENT
BEGIN:VTIMEZONE
TZID:America/Chicago
BEGIN:STANDARD
TZOFFSETFROM:-0500
TZOFFSETTO:-0600
DTSTART:20241103T070000
TZNAME:CST
END:STANDARD
END:VTIMEZONE
END:VCALENDAR
